BEGIN:VCALENDAR
VERSION:2.0
PRODID:-//AStA TH Köln - ECPv6.15.20//NONSGML v1.0//EN
CALSCALE:GREGORIAN
METHOD:PUBLISH
X-ORIGINAL-URL:https://www.asta.th-koeln.de
X-WR-CALDESC:Veranstaltungen für AStA TH Köln
REFRESH-INTERVAL;VALUE=DURATION:PT1H
X-Robots-Tag:noindex
X-PUBLISHED-TTL:PT1H
BEGIN:VTIMEZONE
TZID:Europe/Berlin
BEGIN:DAYLIGHT
TZOFFSETFROM:+0100
TZOFFSETTO:+0200
TZNAME:CEST
DTSTART:20250330T010000
END:DAYLIGHT
BEGIN:STANDARD
TZOFFSETFROM:+0200
TZOFFSETTO:+0100
TZNAME:CET
DTSTART:20251026T010000
END:STANDARD
BEGIN:DAYLIGHT
TZOFFSETFROM:+0100
TZOFFSETTO:+0200
TZNAME:CEST
DTSTART:20260329T010000
END:DAYLIGHT
BEGIN:STANDARD
TZOFFSETFROM:+0200
TZOFFSETTO:+0100
TZNAME:CET
DTSTART:20261025T010000
END:STANDARD
BEGIN:DAYLIGHT
TZOFFSETFROM:+0100
TZOFFSETTO:+0200
TZNAME:CEST
DTSTART:20270328T010000
END:DAYLIGHT
BEGIN:STANDARD
TZOFFSETFROM:+0200
TZOFFSETTO:+0100
TZNAME:CET
DTSTART:20271031T010000
END:STANDARD
END:VTIMEZONE
BEGIN:VEVENT
DTSTART;VALUE=DATE:20260310
DTEND;VALUE=DATE:20260311
DTSTAMP:20260422T165638
CREATED:20260309T191229Z
LAST-MODIFIED:20260309T191229Z
UID:10000225-1773100800-1773187199@www.asta.th-koeln.de
SUMMARY:BIPoC Community Iftar – Interkulturelles Fastenbrechen 2026
DESCRIPTION:Gemeinsam essen\, austauschen\, vernetzen. \nDas BIPoC Referat der TH Köln und Uni Köln laden euch herzlich zum BIPoC Community Iftar ein! Wir möchten gemeinsam mit euch das Fasten brechen und einen Raum für Austausch\, Empowerment und Gemeinschaft schaffen. \nEgal\, ob du fastest oder einfach die Community treffen möchtest – wir freuen uns auf dich! \nWichtige Hinweise: \nDie Kapazität ist begrenzt\, daher ist die Teilnahme nur mit vorheriger Anmeldung möglich!\nAlle Infos zum Ort und den Anmeldelink veröffentlichen wir exklusiv über unsere Social-Media-Kanäle: \n• Instagram: https://www.instagram.com/bipoc_th_koeln\n• WhatsApp-Channel: https://whatsapp.com/channel/0029VbAqQBnICVfoVBLFMK3H
URL:https://www.asta.th-koeln.de/event/bipoc-community-iftar-interkulturelles-fastenbrechen-2026/
LOCATION:Wird bei Anmeldung bekannt gegeben
CATEGORIES:BIPoC
ORGANIZER;CN="Referat f%C3%BCr BIPoC":MAILTO:bipoc@asta.th-koeln.de
END:VEVENT
BEGIN:VEVENT
DTSTART;TZID=Europe/Berlin:20260228T160000
DTEND;TZID=Europe/Berlin:20260228T160000
DTSTAMP:20260422T165638
CREATED:20260209T195552Z
LAST-MODIFIED:20260209T195552Z
UID:10000219-1772294400-1772294400@www.asta.th-koeln.de
SUMMARY:BIPoC Çay & Baklava
DESCRIPTION:Let’s spill the tea! \nDu sehnst dich nach guten Gesprächen oder willst einfach in entspannter Atmosphäre abhängen? Dann bist du herzlich eingeladen zu einer Tasse Tee und leckerem Baklava! \nAm Samstag\, 28.02.2026\, ab 16 Uhr findet unser Çay und Baklava Event statt – ein gemütlicher Open Space\, um den Nachmittag entspannt ausklingen zu lassen. \nHier kannst du: \n* Spiele in kleinen oder großen Gruppen spielen\n* Einfach gemütlich quatschen und neue Leute kennenlernen\n* Snacks genießen und den Alltag hinter dir lassen \nKomm vorbei\, lehne dich zurück und lass dich von der guten Stimmung tragen! \n(English Version) \nLet’s spill the tea! \nLooking for good conversations or just a cozy place to hang out? You’re warmly invited to enjoy a cup of tea and some delicious baklava! \nOn Saturday\, 28th February\, from 4 PM\, our Çay und Baklava event will take place – a relaxed open space to unwind in the late afternoon. \nHere you can: \n* Play games in small or large groups\n* Chat and meet new people\n* Enjoy snacks and take a break from everyday life \nCome by\, relax\, and enjoy the laid-back atmosphere! \nDate: Saturday\, 28th February\nTime: from 4 PM\nLocation: AStA Foyer\, Campus Deutz\, Betzdorfer Straße 2\, 50679 Cologne
URL:https://www.asta.th-koeln.de/event/bipoc-cay-baklava-3/
LOCATION:AStA Foyer\, Betzdorfer Straße 2\, Köln\, NRW\, 50679\, Deutschland
CATEGORIES:BIPoC
ATTACH;FMTTYPE=image/jpeg:https://www.asta.th-koeln.de/wp-content/uploads/2024/07/Cay-und-Baklava.jpg
ORGANIZER;CN="Referat f%C3%BCr BIPoC":MAILTO:bipoc@asta.th-koeln.de
END:VEVENT
BEGIN:VEVENT
DTSTART;VALUE=DATE:20260219
DTEND;VALUE=DATE:20260220
DTSTAMP:20260422T165638
CREATED:20260209T194805Z
LAST-MODIFIED:20260209T194805Z
UID:10000216-1771459200-1771545599@www.asta.th-koeln.de
SUMMARY:Hanau Demounterstützung – Besuch mit BIPoC Referat
DESCRIPTION:Details zur Demonstration folgen noch bzw. wende dich bei Interesse an der Teilnahme schon vorher an das BIPoC Referat des AStA TH Köln unter bipoc@asta.th-koeln.de
URL:https://www.asta.th-koeln.de/event/hanau-demounterstuetzung-besuch-mit-bipoc-referat/
LOCATION:Wird bei Anmeldung bekannt gegeben
CATEGORIES:BIPoC
ORGANIZER;CN="Referat f%C3%BCr BIPoC":MAILTO:bipoc@asta.th-koeln.de
END:VEVENT
END:VCALENDAR